Workbook

Sheet Notas
A1: MAPA DE APURAÇÃO - GRUPO ESPECIAL - CARNAVAL RIO DE JANEIRO 2019
A2: ESCOLA | B2: N1 | C2: N2 | D2: N3 | E2: N4 | F2: N5 | G2: MAX | H2: MIN | I2: TOTAL Q | J2: TOTAL G | K2: Punições
A3: ESTÁCIO DE SÁ | G3: =MAX(B3:F3) -> 0 | H3: =MIN(B3:F3) -> 0 | I3: =SUM(B3+C3+D3+E3+F3-G3-H3-K3) -> 0 | J3: =SUM(0+I3) -> 0
A4: VIRADOURO | G4: =MAX(B4:F4) -> 0 | H4: =MIN(B4:F4) -> 0 | I4: =SUM(B4+C4+D4+E4+F4-G4-H4-K4) -> 0 | J4: =SUM(0+I4) -> 0
A5: MANGUEIRA | G5: =MAX(B5:F5) -> 0 | H5: =MIN(B5:F5) -> 0 | I5: =SUM(B5+C5+D5+E5+F5-G5-H5-K5) -> 0 | J5: =SUM(0+I5) -> 0
A6: PARAÍSO DO TUIUTI | G6: =MAX(B6:F6) -> 0 | H6: =MIN(B6:F6) -> 0 | I6: =SUM(B6+C6+D6+E6+F6-G6-H6-K6) -> 0 | J6: =SUM(0+I6) -> 0
A7: GRANDE RIO | G7: =MAX(B7:F7) -> 0 | H7: =MIN(B7:F7) -> 0 | I7: =SUM(B7+C7+D7+E7+F7-G7-H7-K7) -> 0 | J7: =SUM(0+I7) -> 0
A8: UNIÃO DA ILHA | G8: =MAX(B8:F8) -> 0 | H8: =MIN(B8:F8) -> 0 | I8: =SUM(B8+C8+D8+E8+F8-G8-H8-K8) -> 0 | J8: =SUM(0+I8) -> 0
A9: PORTELA | G9: =MAX(B9:F9) -> 0 | H9: =MIN(B9:F9) -> 0 | I9: =SUM(B9+C9+D9+E9+F9-G9-H9-K9) -> 0 | J9: =SUM(0+I9) -> 0
A10: SÃO CLEMENTE | G10: =MAX(B10:F10) -> 0 | H10: =MIN(B10:F10) -> 0 | I10: =SUM(B10+C10+D10+E10+F10-G10-H10-K10) -> 0 | J10: =SUM(0+I10) -> 0
A11: VILA ISABEL | G11: =MAX(B11:F11) -> 0 | H11: =MIN(B11:F11) -> 0 | I11: =SUM(B11+C11+D11+E11+F11-G11-H11-K11) -> 0 | J11: =SUM(0+I11) -> 0
A12: SALGUEIRO | G12: =MAX(B12:F12) -> 0 | H12: =MIN(B12:F12) -> 0 | I12: =SUM(B12+C12+D12+E12+F12-G12-H12-K12) -> 0 | J12: =SUM(0+I12) -> 0
A13: UNIDOS DA TIJUCA | G13: =MAX(B13:F13) -> 0 | H13: =MIN(B13:F13) -> 0 | I13: =SUM(B13+C13+D13+E13+F13-G13-H13-K13) -> 0 | J13: =SUM(0+I13) -> 0
A14: MOCIDADE | G14: =MAX(B14:F14) -> 0 | H14: =MIN(B14:F14) -> 0 | I14: =SUM(B14+C14+D14+E14+F14-G14-H14-K14) -> 0 | J14: =SUM(0+I14) -> 0
A15: BEIJA-FLOR | G15: =MAX(B15:F15) -> 0 | H15: =MIN(B15:F15) -> 0 | I15: =SUM(B15+C15+D15+E15+F15-G15-H15-K15) -> 0 | J15: =SUM(0+I15) -> 0
A16: QUESITO 1
A18: ESCOLA | B18: N1 | C18: N2 | D18: N3 | E18: N4 | F18: N5 | G18: MAX | H18: MIN | I18: TOTAL Q | J18: TOTAL G
A19: ESTÁCIO DE SÁ | G19: =MAX(B19:F19) -> 0 | H19: =MIN(B19:F19) -> 0 | I19: =SUM(B19+C19+D19+E19+F19-G19-H19) -> 0 | J19: =SUM(J3+I19) -> 0
A20: VIRADOURO | G20: =MAX(B20:F20) -> 0 | H20: =MIN(B20:F20) -> 0 | I20: =SUM(B20+C20+D20+E20+F20-G20-H20) -> 0 | J20: =SUM(J4+I20) -> 0
A21: MANGUEIRA | G21: =MAX(B21:F21) -> 0 | H21: =MIN(B21:F21) -> 0 | I21: =SUM(B21+C21+D21+E21+F21-G21-H21) -> 0 | J21: =SUM(J5+I21) -> 0
A22: PARAÍSO DO TUIUTI | G22: =MAX(B22:F22) -> 0 | H22: =MIN(B22:F22) -> 0 | I22: =SUM(B22+C22+D22+E22+F22-G22-H22) -> 0 | J22: =SUM(J6+I22) -> 0
A23: GRANDE RIO | G23: =MAX(B23:F23) -> 0 | H23: =MIN(B23:F23) -> 0 | I23: =SUM(B23+C23+D23+E23+F23-G23-H23) -> 0 | J23: =SUM(J7+I23) -> 0
A24: UNIÃO DA ILHA | G24: =MAX(B24:F24) -> 0 | H24: =MIN(B24:F24) -> 0 | I24: =SUM(B24+C24+D24+E24+F24-G24-H24) -> 0 | J24: =SUM(J8+I24) -> 0
A25: PORTELA | G25: =MAX(B25:F25) -> 0 | H25: =MIN(B25:F25) -> 0 | I25: =SUM(B25+C25+D25+E25+F25-G25-H25) -> 0 | J25: =SUM(J9+I25) -> 0
A26: SÃO CLEMENTE | G26: =MAX(B26:F26) -> 0 | H26: =MIN(B26:F26) -> 0 | I26: =SUM(B26+C26+D26+E26+F26-G26-H26) -> 0 | J26: =SUM(J10+I26) -> 0
A27: VILA ISABEL | G27: =MAX(B27:F27) -> 0 | H27: =MIN(B27:F27) -> 0 | I27: =SUM(B27+C27+D27+E27+F27-G27-H27) -> 0 | J27: =SUM(J11+I27) -> 0
A28: SALGUEIRO | G28: =MAX(B28:F28) -> 0 | H28: =MIN(B28:F28) -> 0 | I28: =SUM(B28+C28+D28+E28+F28-G28-H28) -> 0 | J28: =SUM(J12+I28) -> 0
A29: UNIDOS DA TIJUCA | G29: =MAX(B29:F29) -> 0 | H29: =MIN(B29:F29) -> 0 | I29: =SUM(B29+C29+D29+E29+F29-G29-H29) -> 0 | J29: =SUM(J13+I29) -> 0
A30: MOCIDADE | G30: =MAX(B30:F30) -> 0 | H30: =MIN(B30:F30) -> 0 | I30: =SUM(B30+C30+D30+E30+F30-G30-H30) -> 0 | J30: =SUM(J14+I30) -> 0
A31: BEIJA-FLOR | G31: =MAX(B31:F31) -> 0 | H31: =MIN(B31:F31) -> 0 | I31: =SUM(B31+C31+D31+E31+F31-G31-H31) -> 0 | J31: =SUM(J15+I31) -> 0
A32: QUESITO 2
A34: ESCOLA | B34: N1 | C34: N2 | D34: N3 | E34: N4 | F34: N5 | G34: MAX | H34: MIN | I34: TOTAL Q | J34: TOTAL G
A35: ESTÁCIO DE SÁ | G35: =MAX(B35:F35) -> 0 | H35: =MIN(B35:F35) -> 0 | I35: =SUM(B35+C35+D35+E35+F35-G35-H35) -> 0 | J35: =SUM(J19+I35) -> 0
A36: VIRADOURO | G36: =MAX(B36:F36) -> 0 | H36: =MIN(B36:F36) -> 0 | I36: =SUM(B36+C36+D36+E36+F36-G36-H36) -> 0 | J36: =SUM(J20+I36) -> 0
A37: MANGUEIRA | G37: =MAX(B37:F37) -> 0 | H37: =MIN(B37:F37) -> 0 | I37: =SUM(B37+C37+D37+E37+F37-G37-H37) -> 0 | J37: =SUM(J21+I37) -> 0
A38: PARAÍSO DO TUIUTI | G38: =MAX(B38:F38) -> 0 | H38: =MIN(B38:F38) -> 0 | I38: =SUM(B38+C38+D38+E38+F38-G38-H38) -> 0 | J38: =SUM(J22+I38) -> 0
A39: GRANDE RIO | G39: =MAX(B39:F39) -> 0 | H39: =MIN(B39:F39) -> 0 | I39: =SUM(B39+C39+D39+E39+F39-G39-H39) -> 0 | J39: =SUM(J23+I39) -> 0
A40: UNIÃO DA ILHA | G40: =MAX(B40:F40) -> 0 | H40: =MIN(B40:F40) -> 0 | I40: =SUM(B40+C40+D40+E40+F40-G40-H40) -> 0 | J40: =SUM(J24+I40) -> 0
A41: PORTELA | G41: =MAX(B41:F41) -> 0 | H41: =MIN(B41:F41) -> 0 | I41: =SUM(B41+C41+D41+E41+F41-G41-H41) -> 0 | J41: =SUM(J25+I41) -> 0
A42: SÃO CLEMENTE | G42: =MAX(B42:F42) -> 0 | H42: =MIN(B42:F42) -> 0 | I42: =SUM(B42+C42+D42+E42+F42-G42-H42) -> 0 | J42: =SUM(J26+I42) -> 0
A43: VILA ISABEL | G43: =MAX(B43:F43) -> 0 | H43: =MIN(B43:F43) -> 0 | I43: =SUM(B43+C43+D43+E43+F43-G43-H43) -> 0 | J43: =SUM(J27+I43) -> 0
A44: SALGUEIRO | G44: =MAX(B44:F44) -> 0 | H44: =MIN(B44:F44) -> 0 | I44: =SUM(B44+C44+D44+E44+F44-G44-H44) -> 0 | J44: =SUM(J28+I44) -> 0
A45: UNIDOS DA TIJUCA | G45: =MAX(B45:F45) -> 0 | H45: =MIN(B45:F45) -> 0 | I45: =SUM(B45+C45+D45+E45+F45-G45-H45) -> 0 | J45: =SUM(J29+I45) -> 0
A46: MOCIDADE | G46: =MAX(B46:F46) -> 0 | H46: =MIN(B46:F46) -> 0 | I46: =SUM(B46+C46+D46+E46+F46-G46-H46) -> 0 | J46: =SUM(J30+I46) -> 0
A47: BEIJA-FLOR | G47: =MAX(B47:F47) -> 0 | H47: =MIN(B47:F47) -> 0 | I47: =SUM(B47+C47+D47+E47+F47-G47-H47) -> 0 | J47: =SUM(J31+I47) -> 0
A48: QUESITO 3
A50: ESCOLA | B50: N1 | C50: N2 | D50: N3 | E50: N4 | F50: N5 | G50: MAX | H50: MIN | I50: TOTAL Q | J50: TOTAL G
A51: ESTÁCIO DE SÁ | G51: =MAX(B51:F51) -> 0 | H51: =MIN(B51:F51) -> 0 | I51: =SUM(B51+C51+D51+E51+F51-G51-H51) -> 0 | J51: =SUM(J35+I51) -> 0
A52: VIRADOURO | G52: =MAX(B52:F52) -> 0 | H52: =MIN(B52:F52) -> 0 | I52: =SUM(B52+C52+D52+E52+F52-G52-H52) -> 0 | J52: =SUM(J36+I52) -> 0
A53: MANGUEIRA | G53: =MAX(B53:F53) -> 0 | H53: =MIN(B53:F53) -> 0 | I53: =SUM(B53+C53+D53+E53+F53-G53-H53) -> 0 | J53: =SUM(J37+I53) -> 0
A54: PARAÍSO DO TUIUTI | G54: =MAX(B54:F54) -> 0 | H54: =MIN(B54:F54) -> 0 | I54: =SUM(B54+C54+D54+E54+F54-G54-H54) -> 0 | J54: =SUM(J38+I54) -> 0
A55: GRANDE RIO | G55: =MAX(B55:F55) -> 0 | H55: =MIN(B55:F55) -> 0 | I55: =SUM(B55+C55+D55+E55+F55-G55-H55) -> 0 | J55: =SUM(J39+I55) -> 0
A56: UNIÃO DA ILHA | G56: =MAX(B56:F56) -> 0 | H56: =MIN(B56:F56) -> 0 | I56: =SUM(B56+C56+D56+E56+F56-G56-H56) -> 0 | J56: =SUM(J40+I56) -> 0
A57: PORTELA | G57: =MAX(B57:F57) -> 0 | H57: =MIN(B57:F57) -> 0 | I57: =SUM(B57+C57+D57+E57+F57-G57-H57) -> 0 | J57: =SUM(J41+I57) -> 0
A58: SÃO CLEMENTE | G58: =MAX(B58:F58) -> 0 | H58: =MIN(B58:F58) -> 0 | I58: =SUM(B58+C58+D58+E58+F58-G58-H58) -> 0 | J58: =SUM(J42+I58) -> 0
A59: VILA ISABEL | G59: =MAX(B59:F59) -> 0 | H59: =MIN(B59:F59) -> 0 | I59: =SUM(B59+C59+D59+E59+F59-G59-H59) -> 0 | J59: =SUM(J43+I59) -> 0
A60: SALGUEIRO | G60: =MAX(B60:F60) -> 0 | H60: =MIN(B60:F60) -> 0 | I60: =SUM(B60+C60+D60+E60+F60-G60-H60) -> 0 | J60: =SUM(J44+I60) -> 0
A61: UNIDOS DA TIJUCA | G61: =MAX(B61:F61) -> 0 | H61: =MIN(B61:F61) -> 0 | I61: =SUM(B61+C61+D61+E61+F61-G61-H61) -> 0 | J61: =SUM(J45+I61) -> 0
A62: MOCIDADE | G62: =MAX(B62:F62) -> 0 | H62: =MIN(B62:F62) -> 0 | I62: =SUM(B62+C62+D62+E62+F62-G62-H62) -> 0 | J62: =SUM(J46+I62) -> 0
A63: BEIJA-FLOR | G63: =MAX(B63:F63) -> 0 | H63: =MIN(B63:F63) -> 0 | I63: =SUM(B63+C63+D63+E63+F63-G63-H63) -> 0 | J63: =SUM(J47+I63) -> 0
A64: QUESITO 4
A66: ESCOLA | B66: N1 | C66: N2 | D66: N3 | E66: N4 | F66: N5 | G66: MAX | H66: MIN | I66: TOTAL Q | J66: TOTAL G
A67: ESTÁCIO DE SÁ | G67: =MAX(B67:F67) -> 0 | H67: =MIN(B67:F67) -> 0 | I67: =SUM(B67+C67+D67+E67+F67-G67-H67) -> 0 | J67: =SUM(J51+I67) -> 0
A68: VIRADOURO | G68: =MAX(B68:F68) -> 0 | H68: =MIN(B68:F68) -> 0 | I68: =SUM(B68+C68+D68+E68+F68-G68-H68) -> 0 | J68: =SUM(J52+I68) -> 0
A69: MANGUEIRA | G69: =MAX(B69:F69) -> 0 | H69: =MIN(B69:F69) -> 0 | I69: =SUM(B69+C69+D69+E69+F69-G69-H69) -> 0 | J69: =SUM(J53+I69) -> 0
A70: PARAÍSO DO TUIUTI | G70: =MAX(B70:F70) -> 0 | H70: =MIN(B70:F70) -> 0 | I70: =SUM(B70+C70+D70+E70+F70-G70-H70) -> 0 | J70: =SUM(J54+I70) -> 0
A71: GRANDE RIO | G71: =MAX(B71:F71) -> 0 | H71: =MIN(B71:F71) -> 0 | I71: =SUM(B71+C71+D71+E71+F71-G71-H71) -> 0 | J71: =SUM(J55+I71) -> 0
A72: UNIÃO DA ILHA | G72: =MAX(B72:F72) -> 0 | H72: =MIN(B72:F72) -> 0 | I72: =SUM(B72+C72+D72+E72+F72-G72-H72) -> 0 | J72: =SUM(J56+I72) -> 0
A73: PORTELA | G73: =MAX(B73:F73) -> 0 | H73: =MIN(B73:F73) -> 0 | I73: =SUM(B73+C73+D73+E73+F73-G73-H73) -> 0 | J73: =SUM(J57+I73) -> 0
A74: SÃO CLEMENTE | G74: =MAX(B74:F74) -> 0 | H74: =MIN(B74:F74) -> 0 | I74: =SUM(B74+C74+D74+E74+F74-G74-H74) -> 0 | J74: =SUM(J58+I74) -> 0
A75: VILA ISABEL | G75: =MAX(B75:F75) -> 0 | H75: =MIN(B75:F75) -> 0 | I75: =SUM(B75+C75+D75+E75+F75-G75-H75) -> 0 | J75: =SUM(J59+I75) -> 0
A76: SALGUEIRO | G76: =MAX(B76:F76) -> 0 | H76: =MIN(B76:F76) -> 0 | I76: =SUM(B76+C76+D76+E76+F76-G76-H76) -> 0 | J76: =SUM(J60+I76) -> 0
A77: UNIDOS DA TIJUCA | G77: =MAX(B77:F77) -> 0 | H77: =MIN(B77:F77) -> 0 | I77: =SUM(B77+C77+D77+E77+F77-G77-H77) -> 0 | J77: =SUM(J61+I77) -> 0
A78: MOCIDADE | G78: =MAX(B78:F78) -> 0 | H78: =MIN(B78:F78) -> 0 | I78: =SUM(B78+C78+D78+E78+F78-G78-H78) -> 0 | J78: =SUM(J62+I78) -> 0
A79: BEIJA-FLOR | G79: =MAX(B79:F79) -> 0 | H79: =MIN(B79:F79) -> 0 | I79: =SUM(B79+C79+D79+E79+F79-G79-H79) -> 0 | J79: =SUM(J63+I79) -> 0
A80: QUESITO 5
A82: ESCOLA | B82: N1 | C82: N2 | D82: N3 | E82: N4 | F82: N5 | G82: MAX | H82: MIN | I82: TOTAL Q | J82: TOTAL G
A83: ESTÁCIO DE SÁ | G83: =MAX(B83:F83) -> 0 | H83: =MIN(B83:F83) -> 0 | I83: =SUM(B83+C83+D83+E83+F83-G83-H83) -> 0 | J83: =SUM(J67+I83) -> 0
A84: VIRADOURO | G84: =MAX(B84:F84) -> 0 | H84: =MIN(B84:F84) -> 0 | I84: =SUM(B84+C84+D84+E84+F84-G84-H84) -> 0 | J84: =SUM(J68+I84) -> 0
A85: MANGUEIRA | G85: =MAX(B85:F85) -> 0 | H85: =MIN(B85:F85) -> 0 | I85: =SUM(B85+C85+D85+E85+F85-G85-H85) -> 0 | J85: =SUM(J69+I85) -> 0
A86: PARAÍSO DO TUIUTI | G86: =MAX(B86:F86) -> 0 | H86: =MIN(B86:F86) -> 0 | I86: =SUM(B86+C86+D86+E86+F86-G86-H86) -> 0 | J86: =SUM(J70+I86) -> 0
A87: GRANDE RIO | G87: =MAX(B87:F87) -> 0 | H87: =MIN(B87:F87) -> 0 | I87: =SUM(B87+C87+D87+E87+F87-G87-H87) -> 0 | J87: =SUM(J71+I87) -> 0
A88: UNIÃO DA ILHA | G88: =MAX(B88:F88) -> 0 | H88: =MIN(B88:F88) -> 0 | I88: =SUM(B88+C88+D88+E88+F88-G88-H88) -> 0 | J88: =SUM(J72+I88) -> 0
A89: PORTELA | G89: =MAX(B89:F89) -> 0 | H89: =MIN(B89:F89) -> 0 | I89: =SUM(B89+C89+D89+E89+F89-G89-H89) -> 0 | J89: =SUM(J73+I89) -> 0
A90: SÃO CLEMENTE | G90: =MAX(B90:F90) -> 0 | H90: =MIN(B90:F90) -> 0 | I90: =SUM(B90+C90+D90+E90+F90-G90-H90) -> 0 | J90: =SUM(J74+I90) -> 0
A91: VILA ISABEL | G91: =MAX(B91:F91) -> 0 | H91: =MIN(B91:F91) -> 0 | I91: =SUM(B91+C91+D91+E91+F91-G91-H91) -> 0 | J91: =SUM(J75+I91) -> 0
A92: SALGUEIRO | G92: =MAX(B92:F92) -> 0 | H92: =MIN(B92:F92) -> 0 | I92: =SUM(B92+C92+D92+E92+F92-G92-H92) -> 0 | J92: =SUM(J76+I92) -> 0
A93: UNIDOS DA TIJUCA | G93: =MAX(B93:F93) -> 0 | H93: =MIN(B93:F93) -> 0 | I93: =SUM(B93+C93+D93+E93+F93-G93-H93) -> 0 | J93: =SUM(J77+I93) -> 0
A94: MOCIDADE | G94: =MAX(B94:F94) -> 0 | H94: =MIN(B94:F94) -> 0 | I94: =SUM(B94+C94+D94+E94+F94-G94-H94) -> 0 | J94: =SUM(J78+I94) -> 0
A95: BEIJA-FLOR | G95: =MAX(B95:F95) -> 0 | H95: =MIN(B95:F95) -> 0 | I95: =SUM(B95+C95+D95+E95+F95-G95-H95) -> 0 | J95: =SUM(J79+I95) -> 0
A96: QUESITO 6
A98: ESCOLA | B98: N1 | C98: N2 | D98: N3 | E98: N4 | F98: N5 | G98: MAX | H98: MIN | I98: TOTAL Q | J98: TOTAL G
A99: ESTÁCIO DE SÁ | G99: =MAX(B99:F99) -> 0 | H99: =MIN(B99:F99) -> 0 | I99: =SUM(B99+C99+D99+E99+F99-G99-H99) -> 0 | J99: =SUM(J83+I99) -> 0
A100: VIRADOURO | G100: =MAX(B100:F100) -> 0 | H100: =MIN(B100:F100) -> 0 | I100: =SUM(B100+C100+D100+E100+F100-G100-H100) -> 0 | J100: =SUM(J84+I100) -> 0
A101: MANGUEIRA | G101: =MAX(B101:F101) -> 0 | H101: =MIN(B101:F101) -> 0 | I101: =SUM(B101+C101+D101+E101+F101-G101-H101) -> 0 | J101: =SUM(J85+I101) -> 0
A102: PARAÍSO DO TUIUTI | G102: =MAX(B102:F102) -> 0 | H102: =MIN(B102:F102) -> 0 | I102: =SUM(B102+C102+D102+E102+F102-G102-H102) -> 0 | J102: =SUM(J86+I102) -> 0
A103: GRANDE RIO | G103: =MAX(B103:F103) -> 0 | H103: =MIN(B103:F103) -> 0 | I103: =SUM(B103+C103+D103+E103+F103-G103-H103) -> 0 | J103: =SUM(J87+I103) -> 0
A104: UNIÃO DA ILHA | G104: =MAX(B104:F104) -> 0 | H104: =MIN(B104:F104) -> 0 | I104: =SUM(B104+C104+D104+E104+F104-G104-H104) -> 0 | J104: =SUM(J88+I104) -> 0
A105: PORTELA | G105: =MAX(B105:F105) -> 0 | H105: =MIN(B105:F105) -> 0 | I105: =SUM(B105+C105+D105+E105+F105-G105-H105) -> 0 | J105: =SUM(J89+I105) -> 0
A106: SÃO CLEMENTE | G106: =MAX(B106:F106) -> 0 | H106: =MIN(B106:F106) -> 0 | I106: =SUM(B106+C106+D106+E106+F106-G106-H106) -> 0 | J106: =SUM(J90+I106) -> 0
...

Sheet Notas Por Quesito
A2: ESCOLAS | B2: =Notas!A16 -> QUESITO 1 | C2: =Notas!A32 -> QUESITO 2 | D2: =Notas!A48 -> QUESITO 3 | E2: =Notas!A64 -> QUESITO 4 | F2: =Notas!A80 -> QUESITO 5 | G2: =Notas!A96 -> QUESITO 6 | H2: =Notas!A112 -> QUESITO 7 | I2: =Notas!A128 -> QUESITO 8 | J2: =Notas!A144 -> QUESITO 9 | K2: PONTOS
A3: ESTÁCIO DE SÁ | B3: =Notas!I3 -> 0 | C3: =Notas!I19 -> 0 | D3: =Notas!I35 -> 0 | E3: =Notas!I51 -> 0 | F3: =Notas!I67 -> 0 | G3: =Notas!I83 -> 0 | H3: =Notas!I99 -> 0 | I3: =Notas!I115 -> 0 | J3: =Notas!I131 -> 0 | K3: =SUM(B3:J3) -> 0
A4: VIRADOURO | B4: =Notas!I4 -> 0 | C4: =Notas!I20 -> 0 | D4: =Notas!I36 -> 0 | E4: =Notas!I52 -> 0 | F4: =Notas!I68 -> 0 | G4: =Notas!I84 -> 0 | H4: =Notas!I100 -> 0 | I4: =Notas!I116 -> 0 | J4: =Notas!I132 -> 0 | K4: =SUM(B4:J4) -> 0
A5: MANGUEIRA | B5: =Notas!I5 -> 0 | C5: =Notas!I21 -> 0 | D5: =Notas!I37 -> 0 | E5: =Notas!I53 -> 0 | F5: =Notas!I69 -> 0 | G5: =Notas!I85 -> 0 | H5: =Notas!I101 -> 0 | I5: =Notas!I117 -> 0 | J5: =Notas!I133 -> 0 | K5: =SUM(B5:J5) -> 0
A6: PARAÍSO DO TUIUTI | B6: =Notas!I6 -> 0 | C6: =Notas!I22 -> 0 | D6: =Notas!I38 -> 0 | E6: =Notas!I54 -> 0 | F6: =Notas!I70 -> 0 | G6: =Notas!I86 -> 0 | H6: =Notas!I102 -> 0 | I6: =Notas!I118 -> 0 | J6: =Notas!I134 -> 0 | K6: =SUM(B6:J6) -> 0
A7: GRANDE RIO | B7: =Notas!I7 -> 0 | C7: =Notas!I23 -> 0 | D7: =Notas!I39 -> 0 | E7: =Notas!I55 -> 0 | F7: =Notas!I71 -> 0 | G7: =Notas!I87 -> 0 | H7: =Notas!I103 -> 0 | I7: =Notas!I119 -> 0 | J7: =Notas!I135 -> 0 | K7: =SUM(B7:J7) -> 0
A8: UNIÃO DA ILHA | B8: =Notas!I8 -> 0 | C8: =Notas!I24 -> 0 | D8: =Notas!I40 -> 0 | E8: =Notas!I56 -> 0 | F8: =Notas!I72 -> 0 | G8: =Notas!I88 -> 0 | H8: =Notas!I104 -> 0 | I8: =Notas!I120 -> 0 | J8: =Notas!I136 -> 0 | K8: =SUM(B8:J8) -> 0
A9: PORTELA | B9: =Notas!I9 -> 0 | C9: =Notas!I25 -> 0 | D9: =Notas!I41 -> 0 | E9: =Notas!I57 -> 0 | F9: =Notas!I73 -> 0 | G9: =Notas!I89 -> 0 | H9: =Notas!I105 -> 0 | I9: =Notas!I121 -> 0 | J9: =Notas!I137 -> 0 | K9: =SUM(B9:J9) -> 0
A10: SÃO CLEMENTE | B10: =Notas!I10 -> 0 | C10: =Notas!I26 -> 0 | D10: =Notas!I42 -> 0 | E10: =Notas!I58 -> 0 | F10: =Notas!I74 -> 0 | G10: =Notas!I90 -> 0 | H10: =Notas!I106 -> 0 | I10: =Notas!I122 -> 0 | J10: =Notas!I138 -> 0 | K10: =SUM(B10:J10) -> 0
A11: VILA ISABEL | B11: =Notas!I11 -> 0 | C11: =Notas!I27 -> 0 | D11: =Notas!I43 -> 0 | E11: =Notas!I59 -> 0 | F11: =Notas!I75 -> 0 | G11: =Notas!I91 -> 0 | H11: =Notas!I107 -> 0 | I11: =Notas!I123 -> 0 | J11: =Notas!I139 -> 0 | K11: =SUM(B11:J11) -> 0
A12: SALGUEIRO | B12: =Notas!I12 -> 0 | C12: =Notas!I28 -> 0 | D12: =Notas!I44 -> 0 | E12: =Notas!I60 -> 0 | F12: =Notas!I76 -> 0 | G12: =Notas!I92 -> 0 | H12: =Notas!I108 -> 0 | I12: =Notas!I124 -> 0 | J12: =Notas!I140 -> 0 | K12: =SUM(B12:J12) -> 0
A13: UNIDOS DA TIJUCA | B13: =Notas!I13 -> 0 | C13: =Notas!I29 -> 0 | D13: =Notas!I45 -> 0 | E13: =Notas!I61 -> 0 | F13: =Notas!I77 -> 0 | G13: =Notas!I93 -> 0 | H13: =Notas!I109 -> 0 | I13: =Notas!I125 -> 0 | J13: =Notas!I141 -> 0 | K13: =SUM(B13:J13) -> 0
A14: MOCIDADE | B14: =Notas!I14 -> 0 | C14: =Notas!I30 -> 0 | D14: =Notas!I46 -> 0 | E14: =Notas!I62 -> 0 | F14: =Notas!I78 -> 0 | G14: =Notas!I94 -> 0 | H14: =Notas!I110 -> 0 | I14: =Notas!I126 -> 0 | J14: =Notas!I142 -> 0 | K14: =SUM(B14:J14) -> 0
A15: BEIJA-FLOR | B15: =Notas!I15 -> 0 | C15: =Notas!I31 -> 0 | D15: =Notas!I47 -> 0 | E15: =Notas!I63 -> 0 | F15: =Notas!I79 -> 0 | G15: =Notas!I95 -> 0 | H15: =Notas!I111 -> 0 | I15: =Notas!I127 -> 0 | J15: =Notas!I143 -> 0 | K15: =SUM(B15:J15) -> 0

Sheet Classificação
A1: Pos. | B1: Escola | C1: Nota | H1: CRIT
A2: 1 | B2: ='Notas Por Quesito'!A3 -> ESTÁCIO DE SÁ | C2: ='Notas Por Quesito'!K3 -> 0
A3: 2 | B3: ='Notas Por Quesito'!A4 -> VIRADOURO | C3: ='Notas Por Quesito'!K4 -> 0
A4: 3 | B4: ='Notas Por Quesito'!A5 -> MANGUEIRA | C4: ='Notas Por Quesito'!K5 -> 0
A5: 4 | B5: ='Notas Por Quesito'!A6 -> PARAÍSO DO TUIUTI | C5: ='Notas Por Quesito'!K6 -> 0
A6: 5 | B6: ='Notas Por Quesito'!A7 -> GRANDE RIO | C6: ='Notas Por Quesito'!K7 -> 0
A7: 6 | B7: ='Notas Por Quesito'!A8 -> UNIÃO DA ILHA | C7: ='Notas Por Quesito'!K8 -> 0
A8: 7 | B8: ='Notas Por Quesito'!A9 -> PORTELA | C8: ='Notas Por Quesito'!K9 -> 0
A9: 8 | B9: ='Notas Por Quesito'!A10 -> SÃO CLEMENTE | C9: ='Notas Por Quesito'!K10 -> 0
A10: 9 | B10: ='Notas Por Quesito'!A11 -> VILA ISABEL | C10: ='Notas Por Quesito'!K11 -> 0
A11: 10 | B11: ='Notas Por Quesito'!A12 -> SALGUEIRO | C11: ='Notas Por Quesito'!K12 -> 0
A12: 11 | B12: ='Notas Por Quesito'!A13 -> UNIDOS DA TIJUCA | C12: ='Notas Por Quesito'!K13 -> 0
A13: 12 | B13: ='Notas Por Quesito'!A14 -> MOCIDADE | C13: ='Notas Por Quesito'!K14 -> 0
A14: 13 | B14: ='Notas Por Quesito'!A15 -> BEIJA-FLOR | C14: ='Notas Por Quesito'!K15 -> 0
B16: CAMPEÃ
B17: DESFILE DAS CAMPEÃS
B18: INTERMEDIÁRIAS
B19: REBAIXADAS
